BEGIN:VCALENDAR
VERSION:2.0
PRODID:www.stappen-shoppen.nl
BEGIN:VEVENT
UID:stappen-shoppen.nl/entity/69e62558737951b4a90fd5cc
DTSTAMP:20260421T212140Z
ORGANIZER;CN=:MAILTO:
DTSTART:20260626T150000Z
DTEND:20260626T230000Z
URL:https://en.hellozuidas.com/ical/69e62558737951b4a90fd5cc
SUMMARY:Summerparty  @Blauwe Engel/ Zuidplein
DESCRIPTION:De Blauwe Engel Summerparty\, het zomerfeest van de Zuidas komt eraan. Vrijdag 26 juni barst het feest los vlak voor de deur van de Blauwe Engel op het Zuidplein.
END:VEVENT
END:VCALENDAR

