BEGIN:VCALENDAR
VERSION:2.0
PRODID:www.stappen-shoppen.nl
BEGIN:VEVENT
UID:stappen-shoppen.nl/entity/67e6b1bd9aa79eae6207674b
DTSTAMP:20260421T063514Z
ORGANIZER;CN=:MAILTO:
DTSTART:20250718T143000Z
DTEND:20250718T173000Z
URL:https://en.hellozuidas.com/ical/67e6b1bd9aa79eae6207674b
SUMMARY:Fab Fridays at Papa's Loft House
DESCRIPTION:Visit Papa's Loft House every Friday for the best start of your weekend with cocktails\, beers and bites for a special price!
END:VEVENT
BEGIN:VEVENT
UID:stappen-shoppen.nl/entity/67e6b1bd9aa79eae6207674b
DTSTAMP:20260421T063514Z
ORGANIZER;CN=:MAILTO:
DTSTART:20250808T143000Z
DTEND:20250808T173000Z
URL:https://en.hellozuidas.com/ical/67e6b1bd9aa79eae6207674b
SUMMARY:Fab Fridays at Papa's Loft House
DESCRIPTION:Visit Papa's Loft House every Friday for the best start of your weekend with cocktails\, beers and bites for a special price!
END:VEVENT
END:VCALENDAR

